BEGIN:VCALENDAR
VERSION:2.0
PRODID:-//Plone.org//NONSGML plone.app.event//EN
X-WR-TIMEZONE:Europe/Madrid
BEGIN:VEVENT
SUMMARY:Desenes Jornades Francesc Ferrer i Guàrdia d'Innovació Educativa
DTSTART;TZID=Europe/Madrid;VALUE=DATE-TIME:20161111T180000
DTEND;TZID=Europe/Madrid;VALUE=DATE-TIME:20161111T190000
DTSTAMP;VALUE=DATE-TIME:20260421T192423Z
UID:3524a8fbcb836609963db4fadaac1ddd
CREATED;VALUE=DATE-TIME:20161111T000000Z
CATEGORIES:
LOCATION:Institut Alella - Avinguda del Bosquet, 7. 08328 Alella
ORGANIZER:Ajuntament d'Alella
COMMENT:Durada: 9, 10 i 11 de novembre, de 18 a 21.30h
URL:https://www.mynerva.net/ajalella/document.php?id=7396
END:VEVENT
END:VCALENDAR