BEGIN:VCALENDAR
VERSION:2.0
PRODID:-//Plone.org//NONSGML plone.app.event//EN
X-WR-TIMEZONE:Europe/Madrid
BEGIN:VEVENT
SUMMARY:Sortida. Collfomic-Sant Segimon-Viladrau
DTSTART;TZID=Europe/Madrid;VALUE=DATE-TIME:20161116T073000
DTEND;TZID=Europe/Madrid;VALUE=DATE-TIME:20161116T083000
DTSTAMP;VALUE=DATE-TIME:20260421T223301Z
UID:c4f405cd3ffdfc717a65cfe5c976b757
CREATED;VALUE=DATE-TIME:20161116T000000Z
CATEGORIES:
LOCATION:Plaça d'Antoni Pujadas
ORGANIZER:Ajuntament d'Alella
URL:https://www.mynerva.net/ajalella/document.php?id=7397
END:VEVENT
END:VCALENDAR