BEGIN:VCALENDAR
VERSION:2.0
PRODID:-//Plone.org//NONSGML plone.app.event//EN
X-WR-TIMEZONE:Europe/Madrid
BEGIN:VEVENT
SUMMARY:Presentació dels formatges Vilatzara
DTSTART;TZID=Europe/Madrid;VALUE=DATE-TIME:20161116T200000
DTEND;TZID=Europe/Madrid;VALUE=DATE-TIME:20161116T210000
DTSTAMP;VALUE=DATE-TIME:20260421T222647Z
UID:b184b775378e910573a94411faf9e03a
CREATED;VALUE=DATE-TIME:20161116T000000Z
CATEGORIES:
LOCATION:Centre Cultural de Can Lleonart - Plaça dels Germans Lleonart, 1 08328 Alella
ORGANIZER:Ajuntament d'Alella
URL:https://www.mynerva.net/ajalella/document.php?id=7398
END:VEVENT
END:VCALENDAR