BEGIN:VCALENDAR
VERSION:2.0
PRODID:-//Plone.org//NONSGML plone.app.event//EN
X-WR-TIMEZONE:Europe/Madrid
BEGIN:VEVENT
SUMMARY:Monogràfic. Me'n sortiré!
DTSTART;TZID=Europe/Madrid;VALUE=DATE-TIME:20161117T200000
DTEND;TZID=Europe/Madrid;VALUE=DATE-TIME:20161117T210000
DTSTAMP;VALUE=DATE-TIME:20260421T222535Z
UID:b6628b02f61a82da0651c92bd63f809a
CREATED;VALUE=DATE-TIME:20161117T000000Z
CATEGORIES:
LOCATION:Espai Jove - Avinguda Ferran Fabra, 1 08328
ORGANIZER:Ajuntament d'Alella
URL:https://www.mynerva.net/ajalella/document.php?id=7399
END:VEVENT
END:VCALENDAR