BEGIN:VCALENDAR
VERSION:2.0
PRODID:-//Plone.org//NONSGML plone.app.event//EN
X-WR-TIMEZONE:Europe/Madrid
BEGIN:VEVENT
SUMMARY:Mirades al Món. Xerrada: "Arquitectura de la Impunitat de les empreses transnacionals"
DTSTART;TZID=Europe/Madrid;VALUE=DATE-TIME:20161117T193000
DTEND;TZID=Europe/Madrid;VALUE=DATE-TIME:20161117T203000
DTSTAMP;VALUE=DATE-TIME:20260421T223305Z
UID:19312da497595803b453f401d79e8f86
CREATED;VALUE=DATE-TIME:20161117T000000Z
CATEGORIES:
LOCATION:Centre Cultural de Can Lleonart - Plaça dels Germans Lleonart, 1 08328 Alella
ORGANIZER:Ajuntament d'Alella
URL:https://www.mynerva.net/ajalella/document.php?id=7403
END:VEVENT
END:VCALENDAR