BEGIN:VCALENDAR
VERSION:2.0
PRODID:-//Plone.org//NONSGML plone.app.event//EN
X-WR-TIMEZONE:Europe/Madrid
BEGIN:VEVENT
SUMMARY:Mirades al Món. Xerrada: Cinefòrum &OpenCurlyDoubleQuote;Viatge al punt zero de la tecnologia&CloseCurlyDoubleQuote;
DTSTART;TZID=Europe/Madrid;VALUE=DATE-TIME:20161118T193000
DTEND;TZID=Europe/Madrid;VALUE=DATE-TIME:20161118T203000
DTSTAMP;VALUE=DATE-TIME:20260421T222903Z
UID:15f894c863e9bcfd88862e771bfdee5e
CREATED;VALUE=DATE-TIME:20161118T000000Z
CATEGORIES:
LOCATION:Biblioteca Municipal Ferrer i Guàrdia - Hort de la Rectoria. 08328 Alella
ORGANIZER:Ajuntament d'Alella
URL:https://www.mynerva.net/ajalella/document.php?id=7404
END:VEVENT
END:VCALENDAR