BEGIN:VCALENDAR
VERSION:2.0
PRODID:-//Plone.org//NONSGML plone.app.event//EN
X-WR-TIMEZONE:Europe/Madrid
BEGIN:VEVENT
SUMMARY:Mirades al Món. Festa de la Cooperació Internacional
DTSTART;TZID=Europe/Madrid;VALUE=DATE-TIME:20161119T110000
DTEND;TZID=Europe/Madrid;VALUE=DATE-TIME:20161119T120000
DTSTAMP;VALUE=DATE-TIME:20260422T003332Z
UID:81116f9b1f44059c6102664a0255f6e4
CREATED;VALUE=DATE-TIME:20161119T000000Z
CATEGORIES:
LOCATION:Plaça de l'Ajuntament - Plaça de l'Ajuntament, s/n. 08328 Alella
ORGANIZER:Ajuntament d'Alella
URL:https://www.mynerva.net/ajalella/document.php?id=7405
END:VEVENT
END:VCALENDAR