BEGIN:VCALENDAR
VERSION:2.0
PRODID:-//Plone.org//NONSGML plone.app.event//EN
X-WR-TIMEZONE:Europe/Madrid
BEGIN:VEVENT
SUMMARY:Mirades al Món. Tertúlia. "Trepitjant Colòmbia, càmera en mà"
DTSTART;TZID=Europe/Madrid;VALUE=DATE-TIME:20161119T180000
DTEND;TZID=Europe/Madrid;VALUE=DATE-TIME:20161119T190000
DTSTAMP;VALUE=DATE-TIME:20260422T021334Z
UID:38ebf1d38894308fe05ca756f1bcdd26
CREATED;VALUE=DATE-TIME:20161119T000000Z
CATEGORIES:
LOCATION:Centre Cultural de Can Lleonart - Plaça dels Germans Lleonart, 1 08328 Alella
ORGANIZER:Ajuntament d'Alella
URL:https://www.mynerva.net/ajalella/document.php?id=7406
END:VEVENT
END:VCALENDAR