BEGIN:VCALENDAR
VERSION:2.0
PRODID:-//Plone.org//NONSGML plone.app.event//EN
X-WR-TIMEZONE:Europe/Madrid
BEGIN:VEVENT
SUMMARY:Portes Obertes al Centre Enoturístic i Arqueològic de Vallmora
DTSTART;TZID=Europe/Madrid;VALUE=DATE-TIME:20161119T100000
DTEND;TZID=Europe/Madrid;VALUE=DATE-TIME:20161119T110000
DTSTAMP;VALUE=DATE-TIME:20260421T222647Z
UID:d79460f04ef2c6d5fd4729b8649d6825
CREATED;VALUE=DATE-TIME:20161119T000000Z
CATEGORIES:
LOCATION:Centre d'Acollida Turística - Ernest Lluch, 40. 08329 Teià
ORGANIZER:Ajuntaments d'Alella, el Masnou i Teià
URL:https://www.mynerva.net/ajalella/document.php?id=7407
END:VEVENT
END:VCALENDAR