BEGIN:VCALENDAR
VERSION:2.0
PRODID:-//Plone.org//NONSGML plone.app.event//EN
X-WR-TIMEZONE:Europe/Madrid
BEGIN:VEVENT
SUMMARY:Portes Obertes al Centre Enoturístic i Arqueològic de Vallmora
DTSTART;TZID=Europe/Madrid;VALUE=DATE-TIME:20161120T100000
DTEND;TZID=Europe/Madrid;VALUE=DATE-TIME:20161120T110000
DTSTAMP;VALUE=DATE-TIME:20260422T034020Z
UID:d0cb07fd63b03f68fce9c88944ae84c7
CREATED;VALUE=DATE-TIME:20161120T000000Z
CATEGORIES:
LOCATION:Centre d'Acollida Turística - Ernest Lluch, 40. 08329 Teià
ORGANIZER:Ajuntaments d'Alella, el Masnou i Teià
URL:https://www.mynerva.net/ajalella/document.php?id=7409
END:VEVENT
END:VCALENDAR