BEGIN:VCALENDAR
VERSION:2.0
PRODID:-//Plone.org//NONSGML plone.app.event//EN
X-WR-TIMEZONE:Europe/Madrid
BEGIN:VEVENT
SUMMARY:Actes 25N. Cursa contra la violència de gènere
DTSTART;TZID=Europe/Madrid;VALUE=DATE-TIME:20161120T083000
DTEND;TZID=Europe/Madrid;VALUE=DATE-TIME:20161120T093000
DTSTAMP;VALUE=DATE-TIME:20260422T021415Z
UID:d959b5370d0aa220c134dfc82a74afea
CREATED;VALUE=DATE-TIME:20161120T000000Z
CATEGORIES:
LOCATION:Riera Principal
ORGANIZER:Associació Dones Solidàries amb la col·laboració de l'Ajuntament
URL:https://www.mynerva.net/ajalella/document.php?id=7410
END:VEVENT
END:VCALENDAR