BEGIN:VCALENDAR
VERSION:2.0
PRODID:-//Plone.org//NONSGML plone.app.event//EN
X-WR-TIMEZONE:Europe/Madrid
BEGIN:VEVENT
SUMMARY:Actes 25N. Hora del conte. "Nenes blaves i nens roses"
DTSTART;TZID=Europe/Madrid;VALUE=DATE-TIME:20161122T173000
DTEND;TZID=Europe/Madrid;VALUE=DATE-TIME:20161122T183000
DTSTAMP;VALUE=DATE-TIME:20260422T034448Z
UID:b5cd97be6b5c4ba330fd5174b2f0d686
CREATED;VALUE=DATE-TIME:20161122T000000Z
CATEGORIES:
LOCATION:Biblioteca Municipal Ferrer i Guàrdia - Hort de la Rectoria. 08328 Alella
ORGANIZER:Ajuntament d'Alella
URL:https://www.mynerva.net/ajalella/document.php?id=7411
END:VEVENT
END:VCALENDAR