BEGIN:VCALENDAR
VERSION:2.0
PRODID:-//Plone.org//NONSGML plone.app.event//EN
X-WR-TIMEZONE:Europe/Madrid
BEGIN:VEVENT
SUMMARY:Actes 25N. Presentació del llibre. La Salida 52
DTSTART;TZID=Europe/Madrid;VALUE=DATE-TIME:20161122T200000
DTEND;TZID=Europe/Madrid;VALUE=DATE-TIME:20161122T210000
DTSTAMP;VALUE=DATE-TIME:20260422T051014Z
UID:26944cbd736fd811fdf08bf65fcdd93f
CREATED;VALUE=DATE-TIME:20161122T000000Z
CATEGORIES:
LOCATION:Biblioteca Municipal Ferrer i Guàrdia - Hort de la Rectoria. 08328 Alella
ORGANIZER:Ajuntament d'Alella
URL:https://www.mynerva.net/ajalella/document.php?id=7412
END:VEVENT
END:VCALENDAR