BEGIN:VCALENDAR
VERSION:2.0
PRODID:-//Plone.org//NONSGML plone.app.event//EN
X-WR-TIMEZONE:Europe/Madrid
BEGIN:VEVENT
SUMMARY:Actes 25N. Activitats, lectura de manifest i encesa d'espelmes
DTSTART;TZID=Europe/Madrid;VALUE=DATE-TIME:20161125T170000
DTEND;TZID=Europe/Madrid;VALUE=DATE-TIME:20161125T180000
DTSTAMP;VALUE=DATE-TIME:20260422T050830Z
UID:c6d5a0ee1824690aa3d2a9f1174399bd
CREATED;VALUE=DATE-TIME:20161125T000000Z
CATEGORIES:
LOCATION:Plaça de l'Ajuntament - Plaça de l'Ajuntament, s/n. 08328 Alella
ORGANIZER:Ajuntament d'Alella
URL:https://www.mynerva.net/ajalella/document.php?id=7413
END:VEVENT
END:VCALENDAR