BEGIN:VCALENDAR
VERSION:2.0
PRODID:-//Plone.org//NONSGML plone.app.event//EN
X-WR-TIMEZONE:Europe/Madrid
BEGIN:VEVENT
SUMMARY:La Marató. Conferència de la Fundació La Marató de TV3
DTSTART;TZID=Europe/Madrid;VALUE=DATE-TIME:20161123T200000
DTEND;TZID=Europe/Madrid;VALUE=DATE-TIME:20161123T210000
DTSTAMP;VALUE=DATE-TIME:20260422T051142Z
UID:00ca079cb7e5f383f1f590ddaedd97cd
CREATED;VALUE=DATE-TIME:20161123T000000Z
CATEGORIES:
LOCATION:Biblioteca Municipal Ferrer i Guàrdia - Hort de la Rectoria. 08328 Alella
ORGANIZER:Ajuntament d'Alella
URL:https://www.mynerva.net/ajalella/document.php?id=7416
END:VEVENT
END:VCALENDAR