BEGIN:VCALENDAR
VERSION:2.0
PRODID:-//Plone.org//NONSGML plone.app.event//EN
X-WR-TIMEZONE:Europe/Madrid
BEGIN:VEVENT
SUMMARY:Cicle de Música Clàssica. Trio Kaukokaipuu.
DTSTART;TZID=Europe/Madrid;VALUE=DATE-TIME:20161125T210000
DTEND;TZID=Europe/Madrid;VALUE=DATE-TIME:20161125T220000
DTSTAMP;VALUE=DATE-TIME:20260422T051208Z
UID:fb5f1fcf7a82a89e2c30e08aadf4deb4
CREATED;VALUE=DATE-TIME:20161125T000000Z
CATEGORIES:
LOCATION:Centre Cultural de Can Lleonart - Plaça dels Germans Lleonart, 1 08328 Alella
ORGANIZER:Ajuntament d'Alella
URL:https://www.mynerva.net/ajalella/document.php?id=7421
END:VEVENT
END:VCALENDAR