BEGIN:VCALENDAR
VERSION:2.0
PRODID:-//Plone.org//NONSGML plone.app.event//EN
X-WR-TIMEZONE:Europe/Madrid
BEGIN:VEVENT
SUMMARY:Sopar d'entitats joves d'Alella
DTSTART;TZID=Europe/Madrid;VALUE=DATE-TIME:20161125T213000
DTEND;TZID=Europe/Madrid;VALUE=DATE-TIME:20161125T223000
DTSTAMP;VALUE=DATE-TIME:20260422T070516Z
UID:9f13b4e6920be4e252e560910ea756c8
CREATED;VALUE=DATE-TIME:20161125T000000Z
CATEGORIES:
LOCATION:Espai Jove - Avinguda Ferran Fabra, 1 08328
ORGANIZER:Ajuntament d'Alella
URL:https://www.mynerva.net/ajalella/document.php?id=7422
END:VEVENT
END:VCALENDAR