BEGIN:VCALENDAR
VERSION:2.0
PRODID:-//Plone.org//NONSGML plone.app.event//EN
X-WR-TIMEZONE:Europe/Madrid
BEGIN:VEVENT
SUMMARY:Reunió del Consell de Poble
DTSTART;TZID=Europe/Madrid;VALUE=DATE-TIME:20161129T190000
DTEND;TZID=Europe/Madrid;VALUE=DATE-TIME:20161129T200000
DTSTAMP;VALUE=DATE-TIME:20260422T082341Z
UID:348f2ed64338d3860b8a4a8832a10764
CREATED;VALUE=DATE-TIME:20161129T000000Z
CATEGORIES:
LOCATION:Antigues Escoles Fabra - Avinguda Ferran Fabra, 1 08328
ORGANIZER:Ajuntament d'Alella
URL:https://www.mynerva.net/ajalella/document.php?id=7424
END:VEVENT
END:VCALENDAR