BEGIN:VCALENDAR
VERSION:2.0
PRODID:-//Plone.org//NONSGML plone.app.event//EN
X-WR-TIMEZONE:Europe/Madrid
BEGIN:VEVENT
SUMMARY:Tast. Vins per a festes
DTSTART;TZID=Europe/Madrid;VALUE=DATE-TIME:20161201T200000
DTEND;TZID=Europe/Madrid;VALUE=DATE-TIME:20161201T210000
DTSTAMP;VALUE=DATE-TIME:20260422T135214Z
UID:40aaab16d15fd28956badc4e7c833a40
CREATED;VALUE=DATE-TIME:20161201T000000Z
CATEGORIES:
LOCATION:Centre Cultural de Can Lleonart - Plaça dels Germans Lleonart, 1 08328 Alella
ORGANIZER:Ajuntament d'Alella
URL:https://www.mynerva.net/ajalella/document.php?id=7425
END:VEVENT
END:VCALENDAR