BEGIN:VCALENDAR
VERSION:2.0
PRODID:-//Plone.org//NONSGML plone.app.event//EN
X-WR-TIMEZONE:Europe/Madrid
BEGIN:VEVENT
SUMMARY:Club de lectura. Lleó l'Africà
DTSTART;TZID=Europe/Madrid;VALUE=DATE-TIME:20161201T210000
DTEND;TZID=Europe/Madrid;VALUE=DATE-TIME:20161201T220000
DTSTAMP;VALUE=DATE-TIME:20260422T153008Z
UID:b2008540ee886d12fac323c03fbbd875
CREATED;VALUE=DATE-TIME:20161201T000000Z
CATEGORIES:
LOCATION:Biblioteca Municipal Ferrer i Guàrdia - Hort de la Rectoria. 08328 Alella
ORGANIZER:Ajuntament d'Alella
URL:https://www.mynerva.net/ajalella/document.php?id=7426
END:VEVENT
END:VCALENDAR