BEGIN:VCALENDAR
VERSION:2.0
PRODID:-//Plone.org//NONSGML plone.app.event//EN
X-WR-TIMEZONE:Europe/Madrid
BEGIN:VEVENT
SUMMARY:Jornades d'Ocupació. Inauguració i conferència
DTSTART;TZID=Europe/Madrid;VALUE=DATE-TIME:20161130T153000
DTEND;TZID=Europe/Madrid;VALUE=DATE-TIME:20161130T163000
DTSTAMP;VALUE=DATE-TIME:20260422T082114Z
UID:e858940991fe580db23fa8336594a154
CREATED;VALUE=DATE-TIME:20161130T000000Z
CATEGORIES:
LOCATION:Edifici Centre del Masnou
ORGANIZER:Ajuntament d'Alella, El Masnou i Teià
URL:https://www.mynerva.net/ajalella/document.php?id=7427
END:VEVENT
END:VCALENDAR