BEGIN:VCALENDAR
VERSION:2.0
PRODID:-//Plone.org//NONSGML plone.app.event//EN
X-WR-TIMEZONE:Europe/Madrid
BEGIN:VEVENT
SUMMARY:2es Jornades d'Ocupació. Taller. Seguretat i confiança personal en la recerca de feina
DTSTART;TZID=Europe/Madrid;VALUE=DATE-TIME:20161202T093000
DTEND;TZID=Europe/Madrid;VALUE=DATE-TIME:20161202T103000
DTSTAMP;VALUE=DATE-TIME:20260422T135214Z
UID:b6bb71577e3ca371061665aaa2516e1e
CREATED;VALUE=DATE-TIME:20161202T000000Z
CATEGORIES:
LOCATION:Espai Can Llaurador de Teià
ORGANIZER:Ajuntament d'Alella, El Masnou i Teià
URL:https://www.mynerva.net/ajalella/document.php?id=7430
END:VEVENT
END:VCALENDAR