BEGIN:VCALENDAR
VERSION:2.0
PRODID:-//Plone.org//NONSGML plone.app.event//EN
X-WR-TIMEZONE:Europe/Madrid
BEGIN:VEVENT
SUMMARY:Mostast. Les aromes de la tardor
DTSTART;TZID=Europe/Madrid;VALUE=DATE-TIME:20161119T130000
DTEND;TZID=Europe/Madrid;VALUE=DATE-TIME:20161119T140000
DTSTAMP;VALUE=DATE-TIME:20260422T003853Z
UID:2e7819a8801e37d43c4049a80f5918d0
CREATED;VALUE=DATE-TIME:20161119T000000Z
CATEGORIES:
LOCATION:Centre Cultural de Can Lleonart - Plaça dels Germans Lleonart, 1 08328 Alella
ORGANIZER:Ajuntament d'Alella
URL:https://www.mynerva.net/ajalella/document.php?id=7433
END:VEVENT
END:VCALENDAR