BEGIN:VCALENDAR
VERSION:2.0
PRODID:-//Plone.org//NONSGML plone.app.event//EN
X-WR-TIMEZONE:Europe/Madrid
BEGIN:VEVENT
SUMMARY:Jornades d'Ocupació. Taller. Imatge personal, el primer destinatari ets tu
DTSTART;TZID=Europe/Madrid;VALUE=DATE-TIME:20161130T173000
DTEND;TZID=Europe/Madrid;VALUE=DATE-TIME:20161130T183000
DTSTAMP;VALUE=DATE-TIME:20260422T082215Z
UID:cffec10bc6e277725ac8fdb8e2742eeb
CREATED;VALUE=DATE-TIME:20161130T000000Z
CATEGORIES:
LOCATION:Edifici Centre del Masnou
ORGANIZER:Ajuntament d'Alella, El Masnou i Teià
URL:https://www.mynerva.net/ajalella/document.php?id=7438
END:VEVENT
END:VCALENDAR