BEGIN:VCALENDAR
VERSION:2.0
PRODID:-//Plone.org//NONSGML plone.app.event//EN
X-WR-TIMEZONE:Europe/Madrid
BEGIN:VEVENT
SUMMARY:Literatures amb sentits. Poesia i formatges
DTSTART;TZID=Europe/Madrid;VALUE=DATE-TIME:20161130T190000
DTEND;TZID=Europe/Madrid;VALUE=DATE-TIME:20161130T200000
DTSTAMP;VALUE=DATE-TIME:20260422T104213Z
UID:42ba27574941e199e2fc91facc0bdcb5
CREATED;VALUE=DATE-TIME:20161130T000000Z
CATEGORIES:
LOCATION:Can Manyé
ORGANIZER:Ajuntament d'Alella
URL:https://www.mynerva.net/ajalella/document.php?id=7461
END:VEVENT
END:VCALENDAR