BEGIN:VCALENDAR
VERSION:2.0
PRODID:-//Plone.org//NONSGML plone.app.event//EN
X-WR-TIMEZONE:Europe/Madrid
BEGIN:VEVENT
SUMMARY:Taller de tast de formatge amb vins DO Alella
DTSTART;TZID=Europe/Madrid;VALUE=DATE-TIME:20161202T200000
DTEND;TZID=Europe/Madrid;VALUE=DATE-TIME:20161202T210000
DTSTAMP;VALUE=DATE-TIME:20260422T172325Z
UID:64670cb0c469fa0c1887038f7c2b37e0
CREATED;VALUE=DATE-TIME:20161202T000000Z
CATEGORIES:
LOCATION:Masia de Can Magarola - Avda. Sant Mateu, 2. 08328 Alella
ORGANIZER:Ajuntament d'Alella
URL:https://www.mynerva.net/ajalella/document.php?id=7470
END:VEVENT
END:VCALENDAR