BEGIN:VCALENDAR
VERSION:2.0
PRODID:-//Plone.org//NONSGML plone.app.event//EN
X-WR-TIMEZONE:Europe/Madrid
BEGIN:VEVENT
SUMMARY:La Marató. Cursa de l'Escola La Serreta
DTSTART;TZID=Europe/Madrid;VALUE=DATE-TIME:20161202T163000
DTEND;TZID=Europe/Madrid;VALUE=DATE-TIME:20161202T173000
DTSTAMP;VALUE=DATE-TIME:20260422T153217Z
UID:bf958848b76d5a651ceb3b70fa6ae51c
CREATED;VALUE=DATE-TIME:20161202T000000Z
CATEGORIES:
LOCATION:Escola La Serreta - C/ La Vinya 47-51
ORGANIZER:Escola La Serreta i AMPA de l'Escola La Serreta
URL:https://www.mynerva.net/ajalella/document.php?id=7474
END:VEVENT
END:VCALENDAR