BEGIN:VCALENDAR
VERSION:2.0
PRODID:-//Plone.org//NONSGML plone.app.event//EN
X-WR-TIMEZONE:Europe/Madrid
BEGIN:VEVENT
SUMMARY:Xerrada. El Joc i les joguines que oferim als nostres infants
DTSTART;TZID=Europe/Madrid;VALUE=DATE-TIME:20161201T170000
DTEND;TZID=Europe/Madrid;VALUE=DATE-TIME:20161201T180000
DTSTAMP;VALUE=DATE-TIME:20260422T114250Z
UID:e6258c22f7b609e416ecd232bea811d3
CREATED;VALUE=DATE-TIME:20161201T000000Z
CATEGORIES:
LOCATION:Llar d'Infants Municipal Els Pinyons - Avinguda del Bosquet, 5
ORGANIZER:Ajuntament d'Alella
URL:https://www.mynerva.net/ajalella/document.php?id=7481
END:VEVENT
END:VCALENDAR