BEGIN:VCALENDAR
VERSION:2.0
PRODID:-//Plone.org//NONSGML plone.app.event//EN
X-WR-TIMEZONE:Europe/Madrid
BEGIN:VEVENT
SUMMARY:Portes obertes al GIRA
DTSTART;TZID=Europe/Madrid;VALUE=DATE-TIME:20161216T170000
DTEND;TZID=Europe/Madrid;VALUE=DATE-TIME:20161216T180000
DTSTAMP;VALUE=DATE-TIME:20260422T173333Z
UID:af6c044550017b2a13d7fa20d23b18aa
CREATED;VALUE=DATE-TIME:20161216T000000Z
CATEGORIES:
LOCATION:Espai Jove - Avinguda Ferran Fabra, 1 08328
ORGANIZER:Ajuntament d'Alella
COMMENT:Durada: De 17 a 20h
URL:https://www.mynerva.net/ajalella/document.php?id=7487
END:VEVENT
END:VCALENDAR