BEGIN:VCALENDAR
VERSION:2.0
PRODID:-//Plone.org//NONSGML plone.app.event//EN
X-WR-TIMEZONE:Europe/Madrid
BEGIN:VEVENT
SUMMARY:Debats d'actualitat. Crisi a la mediterrània
DTSTART;TZID=Europe/Madrid;VALUE=DATE-TIME:20161216T200000
DTEND;TZID=Europe/Madrid;VALUE=DATE-TIME:20161216T210000
DTSTAMP;VALUE=DATE-TIME:20260422T173108Z
UID:799570eca9155bd67d70de9a12a7345d
CREATED;VALUE=DATE-TIME:20161216T000000Z
CATEGORIES:
LOCATION:Espai Jove - Avinguda Ferran Fabra, 1 08328
ORGANIZER:Ajuntament d'Alella
URL:https://www.mynerva.net/ajalella/document.php?id=7489
END:VEVENT
END:VCALENDAR