BEGIN:VCALENDAR
VERSION:2.0
PRODID:-//Plone.org//NONSGML plone.app.event//EN
X-WR-TIMEZONE:Europe/Madrid
BEGIN:VEVENT
SUMMARY:Enotast. Els vins de la nit de Cap d'Any
DTSTART;TZID=Europe/Madrid;VALUE=DATE-TIME:20161217T130000
DTEND;TZID=Europe/Madrid;VALUE=DATE-TIME:20161217T140000
DTSTAMP;VALUE=DATE-TIME:20260422T203410Z
UID:feda26bee7958068a03a8eab710cd4d8
CREATED;VALUE=DATE-TIME:20161217T000000Z
CATEGORIES:
LOCATION:Oficina de Turisme - Riera Fosca 2. 08328 Alella
ORGANIZER:Ajuntament d'Alella
URL:https://www.mynerva.net/ajalella/document.php?id=7490
END:VEVENT
END:VCALENDAR