BEGIN:VCALENDAR
VERSION:2.0
PRODID:-//Plone.org//NONSGML plone.app.event//EN
X-WR-TIMEZONE:Europe/Madrid
BEGIN:VEVENT
SUMMARY:Mostast. El tacte del suro
DTSTART;TZID=Europe/Madrid;VALUE=DATE-TIME:20161217T130000
DTEND;TZID=Europe/Madrid;VALUE=DATE-TIME:20161217T140000
DTSTAMP;VALUE=DATE-TIME:20260422T203339Z
UID:a30bb1e2a9f214927068bd34adb9d7d4
CREATED;VALUE=DATE-TIME:20161217T000000Z
CATEGORIES:
LOCATION:Centre Cultural de Can Lleonart - Plaça dels Germans Lleonart, 1 08328 Alella
ORGANIZER:Ajuntament d'Alella
URL:https://www.mynerva.net/ajalella/document.php?id=7491
END:VEVENT
END:VCALENDAR