BEGIN:VCALENDAR
VERSION:2.0
PRODID:-//Plone.org//NONSGML plone.app.event//EN
X-WR-TIMEZONE:Europe/Madrid
BEGIN:VEVENT
SUMMARY:Lliurament de premis del concurs de pessebres
DTSTART;TZID=Europe/Madrid;VALUE=DATE-TIME:20161217T103000
DTEND;TZID=Europe/Madrid;VALUE=DATE-TIME:20161217T113000
DTSTAMP;VALUE=DATE-TIME:20260422T203243Z
UID:84e96b37b012b442fc98b18efb94172e
CREATED;VALUE=DATE-TIME:20161217T000000Z
CATEGORIES:
LOCATION:Centre Cultural de Can Lleonart - Plaça dels Germans Lleonart, 1 08328 Alella
ORGANIZER:Ajuntament d'Alella
URL:https://www.mynerva.net/ajalella/document.php?id=7500
END:VEVENT
END:VCALENDAR