BEGIN:VCALENDAR
VERSION:2.0
PRODID:-//Plone.org//NONSGML plone.app.event//EN
X-WR-TIMEZONE:Europe/Madrid
BEGIN:VEVENT
SUMMARY:Debat "L'art sense significat. La significació de l'art"
DTSTART;TZID=Europe/Madrid;VALUE=DATE-TIME:20170224T200000
DTEND;TZID=Europe/Madrid;VALUE=DATE-TIME:20170224T210000
DTSTAMP;VALUE=DATE-TIME:20260419T153217Z
UID:f92da611d939ebc01ef1f8dad346ea4d
CREATED;VALUE=DATE-TIME:20170224T000000Z
CATEGORIES:
LOCATION:Can Manyé. Espai d'art i creació - Riera Coma Fosca 42. 08328 Alella
ORGANIZER:Ajuntament d'Alella
URL:https://www.mynerva.net/ajalella/document.php?id=7751
END:VEVENT
END:VCALENDAR