BEGIN:VCALENDAR
VERSION:2.0
PRODID:-//Plone.org//NONSGML plone.app.event//EN
X-WR-TIMEZONE:Europe/Madrid
BEGIN:VEVENT
SUMMARY:Sortida. Travessa d'Olot a Santa Pau
DTSTART;TZID=Europe/Madrid;VALUE=DATE-TIME:20170322T073000
DTEND;TZID=Europe/Madrid;VALUE=DATE-TIME:20170322T083000
DTSTAMP;VALUE=DATE-TIME:20260419T164808Z
UID:a7f9f723cd3e442db98f00ec6c1cb400
CREATED;VALUE=DATE-TIME:20170322T000000Z
CATEGORIES:
LOCATION:Centre Cultural de Can Lleonart - Plaça dels Germans Lleonart, 1 08328 Alella
ORGANIZER:Ajuntament d'Alella
URL:https://www.mynerva.net/ajalella/document.php?id=7922
END:VEVENT
END:VCALENDAR