BEGIN:VCALENDAR
VERSION:2.0
PRODID:-//Plone.org//NONSGML plone.app.event//EN
X-WR-TIMEZONE:Europe/Madrid
BEGIN:VEVENT
SUMMARY:Enotast
DTSTART;TZID=Europe/Madrid;VALUE=DATE-TIME:20170325T130000
DTEND;TZID=Europe/Madrid;VALUE=DATE-TIME:20170325T140000
DTSTAMP;VALUE=DATE-TIME:20260419T180332Z
UID:214aea0d33e31f24e1112a3b8e846bfb
CREATED;VALUE=DATE-TIME:20170325T000000Z
CATEGORIES:
LOCATION:Oficina de Turisme - Riera Fosca 2. 08328 Alella
ORGANIZER:Ajuntament d'Alella
COMMENT:Durada: De 13 a 14.30h
URL:https://www.mynerva.net/ajalella/document.php?id=7924
END:VEVENT
END:VCALENDAR