BEGIN:VCALENDAR
VERSION:2.0
PRODID:-//Plone.org//NONSGML plone.app.event//EN
X-WR-TIMEZONE:Europe/Madrid
BEGIN:VEVENT
SUMMARY:Audiències públiques de barris. Seguretat i prevenció
DTSTART;TZID=Europe/Madrid;VALUE=DATE-TIME:20170316T200000
DTEND;TZID=Europe/Madrid;VALUE=DATE-TIME:20170316T210000
DTSTAMP;VALUE=DATE-TIME:20260421T112702Z
UID:97fc7746c8a6978048c5609e01093fc7
CREATED;VALUE=DATE-TIME:20170316T000000Z
CATEGORIES:
LOCATION:Sala de Plens de l'Ajuntament
ORGANIZER:Ajuntament d'Alella
URL:https://www.mynerva.net/ajalella/document.php?id=7947
END:VEVENT
END:VCALENDAR