BEGIN:VCALENDAR
VERSION:2.0
PRODID:-//Plone.org//NONSGML plone.app.event//EN
X-WR-TIMEZONE:Europe/Madrid
BEGIN:VEVENT
SUMMARY:Audiències públiques de barris. Seguretat i prevenció
DTSTART;TZID=Europe/Madrid;VALUE=DATE-TIME:20170318T163000
DTEND;TZID=Europe/Madrid;VALUE=DATE-TIME:20170318T173000
DTSTAMP;VALUE=DATE-TIME:20260419T162900Z
UID:d5dd050c6868a1a456dffd4e926b71b2
CREATED;VALUE=DATE-TIME:20170318T000000Z
CATEGORIES:
LOCATION:Parc de Can Sors (carrer Mediterrània)
ORGANIZER:Ajuntament d'Alella
URL:https://www.mynerva.net/ajalella/document.php?id=7949
END:VEVENT
END:VCALENDAR