BEGIN:VCALENDAR
VERSION:2.0
PRODID:-//Plone.org//NONSGML plone.app.event//EN
X-WR-TIMEZONE:Europe/Madrid
BEGIN:VEVENT
SUMMARY:Xerrada. Primers auxilis
DTSTART;TZID=Europe/Madrid;VALUE=DATE-TIME:20170321T170000
DTEND;TZID=Europe/Madrid;VALUE=DATE-TIME:20170321T180000
DTSTAMP;VALUE=DATE-TIME:20260419T145318Z
UID:ed0ef0afcd891163f11df5fe9cf0397c
CREATED;VALUE=DATE-TIME:20170321T000000Z
CATEGORIES:
LOCATION:Llar d'Infants Municipal Els Pinyons - Avinguda del Bosquet, 5
ORGANIZER:Ajuntament d'Alella
COMMENT:Durada: De 17 a 18.30h
URL:https://www.mynerva.net/ajalella/document.php?id=7950
END:VEVENT
END:VCALENDAR