BEGIN:VCALENDAR
VERSION:2.0
PRODID:-//Plone.org//NONSGML plone.app.event//EN
X-WR-TIMEZONE:Europe/Madrid
BEGIN:VEVENT
SUMMARY:Taller familiar. Fem amulets romans!
DTSTART;TZID=Europe/Madrid;VALUE=DATE-TIME:20170326T110000
DTEND;TZID=Europe/Madrid;VALUE=DATE-TIME:20170326T120000
DTSTAMP;VALUE=DATE-TIME:20260419T181925Z
UID:de16eb20ab9e973da7cb9fa26ef1d6f8
CREATED;VALUE=DATE-TIME:20170326T000000Z
CATEGORIES:
LOCATION:Centre Enoturístic i Arqueològic de Vallmora - Ernest Lluch, 40. 08329 Teià
ORGANIZER:Ajuntaments d'Alella, el Masnou i Teià
URL:https://www.mynerva.net/ajalella/document.php?id=8010
END:VEVENT
END:VCALENDAR