BEGIN:VCALENDAR
VERSION:2.0
PRODID:-//Plone.org//NONSGML plone.app.event//EN
X-WR-TIMEZONE:Europe/Madrid
BEGIN:VEVENT
SUMMARY:Visita guiada i tast de vi al celler romà de Vallmora
DTSTART;TZID=Europe/Madrid;VALUE=DATE-TIME:20170326T120000
DTEND;TZID=Europe/Madrid;VALUE=DATE-TIME:20170326T130000
DTSTAMP;VALUE=DATE-TIME:20260419T145342Z
UID:25f2b89433a81eb7f211cb80ad20d34f
CREATED;VALUE=DATE-TIME:20170325T000000Z
CATEGORIES:
LOCATION:Centre Enoturístic i Arqueològic de Vallmora - Ernest Lluch, 40. 08329 Teià
ORGANIZER:Ajuntaments d'Alella, El Masnou i Teià
URL:https://www.mynerva.net/ajalella/document.php?id=8011
END:VEVENT
END:VCALENDAR