BEGIN:VCALENDAR
VERSION:2.0
PRODID:-//Plone.org//NONSGML plone.app.event//EN
X-WR-TIMEZONE:Europe/Madrid
BEGIN:VEVENT
SUMMARY:Ruta del vi: El vi al Maresme passat i present
DTSTART;TZID=Europe/Madrid;VALUE=DATE-TIME:20170325T110000
DTEND;TZID=Europe/Madrid;VALUE=DATE-TIME:20170325T120000
DTSTAMP;VALUE=DATE-TIME:20260419T145158Z
UID:c806f6251ffd55245a2a379f09733a23
CREATED;VALUE=DATE-TIME:20170325T000000Z
CATEGORIES:
LOCATION:Centre Enoturístic i Arqueològic de Vallmora - Ernest Lluch, 40. 08329 Teià
ORGANIZER:Ajuntaments d'Alella, el Masnou i Teià
URL:https://www.mynerva.net/ajalella/document.php?id=8012
END:VEVENT
END:VCALENDAR