BEGIN:VCALENDAR
VERSION:2.0
PRODID:-//Plone.org//NONSGML plone.app.event//EN
X-WR-TIMEZONE:Europe/Madrid
BEGIN:VEVENT
SUMMARY:Ruta del Vi: El vi al Maresme, passat i present
DTSTART;TZID=Europe/Madrid;VALUE=DATE-TIME:20180630T110000
DTEND;TZID=Europe/Madrid;VALUE=DATE-TIME:20180630T120000
DTSTAMP;VALUE=DATE-TIME:20260426T040339Z
UID:eca479928edce3df9a07f3048b85ce29
CREATED;VALUE=DATE-TIME:20180407T000000Z
CATEGORIES:
LOCATION:Centre Enoturístic i Arqueològic de Vallmora - Ernest Lluch, 40. 08329 Teià
ORGANIZER:Ajuntaments d'Alella, el Masnou i Teià
URL:https://www.mynerva.net/ajalella/document.php?id=9536
END:VEVENT
END:VCALENDAR