BEGIN:VCALENDAR
VERSION:2.0
PRODID:-//Plone.org//NONSGML plone.app.event//EN
X-WR-TIMEZONE:Europe/Madrid
BEGIN:VEVENT
SUMMARY:Vallmora tastavins
DTSTART;TZID=Europe/Madrid;VALUE=DATE-TIME:20180617T130000
DTEND;TZID=Europe/Madrid;VALUE=DATE-TIME:20180617T140000
DTSTAMP;VALUE=DATE-TIME:20260426T054333Z
UID:b497c542d7867b2b3b85c24041f826ed
CREATED;VALUE=DATE-TIME:20180617T000000Z
CATEGORIES:
LOCATION:Centre Enoturístic i Arqueològic de Vallmora - Ernest Lluch, 40. 08329 Teià
ORGANIZER:Ajuntaments d'Alella, el Masnou i Teià
URL:https://www.mynerva.net/ajalella/document.php?id=9538
END:VEVENT
END:VCALENDAR