BEGIN:VCALENDAR
VERSION:2.0
PRODID:-//Plone.org//NONSGML plone.app.event//EN
X-WR-TIMEZONE:Europe/Madrid
BEGIN:VEVENT
SUMMARY:Taller familiar &OpenCurlyDoubleQuote;Fem d'arqueòlegs!&CloseCurlyDoubleQuote;
DTSTART;TZID=Europe/Madrid;VALUE=DATE-TIME:20180603T110000
DTEND;TZID=Europe/Madrid;VALUE=DATE-TIME:20180603T120000
DTSTAMP;VALUE=DATE-TIME:20260426T054408Z
UID:26d56a06d6d355dc984a3d3597d40346
CREATED;VALUE=DATE-TIME:20180603T000000Z
CATEGORIES:
LOCATION:Centre Enoturístic i Arqueològic de Vallmora - Ernest Lluch, 40. 08329 Teià
ORGANIZER:Ajuntaments d'Alella, el Masnou i Teià
URL:https://www.mynerva.net/ajalella/document.php?id=9547
END:VEVENT
END:VCALENDAR