BEGIN:VCALENDAR
VERSION:2.0
PRODID:-//Plone.org//NONSGML plone.app.event//EN
X-WR-TIMEZONE:Europe/Madrid
BEGIN:VEVENT
SUMMARY:Taller familiar &OpenCurlyDoubleQuote;Fem d'arqueòlegs!&CloseCurlyDoubleQuote;
DTSTART;TZID=Europe/Madrid;VALUE=DATE-TIME:20180617T110000
DTEND;TZID=Europe/Madrid;VALUE=DATE-TIME:20180617T120000
DTSTAMP;VALUE=DATE-TIME:20260426T054312Z
UID:f023650c2242686f0a74cf5ec1f14e50
CREATED;VALUE=DATE-TIME:20180617T000000Z
CATEGORIES:
LOCATION:Centre Enoturístic i Arqueològic de Vallmora - Ernest Lluch, 40. 08329 Teià
ORGANIZER:Ajuntaments d'Alella, el Masnou i Teià
URL:https://www.mynerva.net/ajalella/document.php?id=9548
END:VEVENT
END:VCALENDAR