BEGIN:VCALENDAR
VERSION:2.0
PRODID:-//Plone.org//NONSGML plone.app.event//EN
X-WR-TIMEZONE:Europe/Madrid
BEGIN:VEVENT
SUMMARY:Rutes pel patrimoni natural i històric: Alella des dels cims
DTSTART;TZID=Europe/Madrid;VALUE=DATE-TIME:20180603T100000
DTEND;TZID=Europe/Madrid;VALUE=DATE-TIME:20180603T110000
DTSTAMP;VALUE=DATE-TIME:20260426T054333Z
UID:2ce71ca7e78ef59c91a7cbe0c1e68cf1
CREATED;VALUE=DATE-TIME:20180603T000000Z
CATEGORIES:
LOCATION:Oficina de Turisme - Riera Fosca 2. 08328 Alella
ORGANIZER:Ajuntament d'Alella
COMMENT:Durada: De 10 a 12h
URL:https://www.mynerva.net/ajalella/document.php?id=9561
END:VEVENT
END:VCALENDAR