BEGIN:VCALENDAR
VERSION:2.0
PRODID:-//Plone.org//NONSGML plone.app.event//EN
X-WR-TIMEZONE:Europe/Madrid
BEGIN:VEVENT
SUMMARY:Enotast. Nit del comerç
DTSTART;TZID=Europe/Madrid;VALUE=DATE-TIME:20180609T200000
DTEND;TZID=Europe/Madrid;VALUE=DATE-TIME:20180609T210000
DTSTAMP;VALUE=DATE-TIME:20260426T054440Z
UID:30dacbc218102b9225f769bac1f4733b
CREATED;VALUE=DATE-TIME:20180609T000000Z
CATEGORIES:
LOCATION:Oficina de Turisme - Riera Fosca 2. 08328 Alella
ORGANIZER:Ajuntament d'Alella
URL:https://www.mynerva.net/ajalella/document.php?id=9562
END:VEVENT
END:VCALENDAR