BEGIN:VCALENDAR
VERSION:2.0
PRODID:-//Plone.org//NONSGML plone.app.event//EN
X-WR-TIMEZONE:Europe/Madrid
BEGIN:VEVENT
SUMMARY:Mostast nit del comerç
DTSTART;TZID=Europe/Madrid;VALUE=DATE-TIME:20180609T200000
DTEND;TZID=Europe/Madrid;VALUE=DATE-TIME:20180609T210000
DTSTAMP;VALUE=DATE-TIME:20260426T054409Z
UID:b4dc94c759a36bcab72e359ebbe483a9
CREATED;VALUE=DATE-TIME:20180609T000000Z
CATEGORIES:
LOCATION:Centre Cultural de Can Lleonart - Plaça dels Germans Lleonart, 1 08328 Alella
ORGANIZER:Ajuntament d'Alella
COMMENT:Durada: De 20 a 21.30h
URL:https://www.mynerva.net/ajalella/document.php?id=9563
END:VEVENT
END:VCALENDAR