BEGIN:VCALENDAR
VERSION:2.0
PRODID:-//Plone.org//NONSGML plone.app.event//EN
X-WR-TIMEZONE:Europe/Madrid
BEGIN:VEVENT
SUMMARY:Enotast Diada enosolidària DO Alella
DTSTART;TZID=Europe/Madrid;VALUE=DATE-TIME:20180616T130000
DTEND;TZID=Europe/Madrid;VALUE=DATE-TIME:20180616T140000
DTSTAMP;VALUE=DATE-TIME:20260426T054456Z
UID:79eb0237ea27a3275d63e20a254db0fb
CREATED;VALUE=DATE-TIME:20180616T000000Z
CATEGORIES:
LOCATION:Oficina de Turisme - Riera Fosca 2. 08328 Alella
ORGANIZER:Ajuntament d'Alella
COMMENT:Durada: De 13 a 14.30h
URL:https://www.mynerva.net/ajalella/document.php?id=9564
END:VEVENT
END:VCALENDAR